BEGIN:VCALENDAR
VERSION:2.0
PRODID:-//Zijnscentrum - ECPv6.15.20//NONSGML v1.0//EN
CALSCALE:GREGORIAN
METHOD:PUBLISH
X-ORIGINAL-URL:https://zijnscentrum.nl
X-WR-CALDESC:Evenementen voor Zijnscentrum
REFRESH-INTERVAL;VALUE=DURATION:PT1H
X-Robots-Tag:noindex
X-PUBLISHED-TTL:PT1H
BEGIN:VTIMEZONE
TZID:UTC
BEGIN:STANDARD
TZOFFSETFROM:+0000
TZOFFSETTO:+0000
TZNAME:UTC
DTSTART:20230101T000000
END:STANDARD
END:VTIMEZONE
BEGIN:VEVENT
DTSTART;TZID=UTC:20240926T180000
DTEND;TZID=UTC:20240929T170000
DTSTAMP:20260424T140618
CREATED:20240202T100028Z
LAST-MODIFIED:20240710T123913Z
UID:1117-1727373600-1727629200@zijnscentrum.nl
SUMMARY:Femme Totale 26 -29 september 2024
DESCRIPTION: \nFEMME TOTALE \n4 daags retraite voor de rijpere vrouw vanaf 40 \n26-29 september 2024 \nprachtige bosrijke locatie in st Geertruid (zuid Limburg) \n \nFemme Totale is een 4 daagse waarin we jou behoeftes\, uitdagingen\, vragen centraal zetten in een liefdevolle en natuurrijke setting centraal zetten. Waar je jezelf mag herontdekken en mag omarmen met alles precies zoals het is.\n\nWat zijn je diepste verlangens en durf je die te leven?\n\nElke leeftijd heeft zijn eigen proces\, wat dat betekent voor de rijpere vrouw? ‘De overgang’ is in volksmond een beladen woord\, maar het is dan ook geen event of gebeurtenis maar een jarenlang proces van veranderingen zowel op lichamelijk\, mentaal\, emotioneel alsook op relationeel vlak.\n\nVoor vrouwen\, met of zonder kinderen begint vanaf het 40e levensjaar een geheel nieuwe fase\, waarin je je leven hernieuwd gaat overdenken\, behoeftes en emoties een wending nemen. Je lichaam en energie langzaam veranderen. Het is helemaal niet zo vanzelfsprekend voor elke vrouw dat we daar raad mee weten.\n\nDus\, hoe zou het zijn om je vanzelfsprekend mooi en TOTAAL te voelen. Hoe zou het zijn je geïnspireerd en je gesteund te voelen door andere vrouwen met vergelijkbare thema’s. Hoe zou het zijn om gehoord te worden vanuit je diepste wezen en mogelijkheden te ontdekken wat nieuwe levenspaden zijn?\n\nKom het samen met ons ontdekken\, vrij en onbevangen\, verkennend en nieuwsgierig\, meer hoef je niet mee te nemen!\n\nLaat je verrassen\, verwennen en inspireren.\n\nWat kun je o.a. zou kunnen verwachten: \n\n 	Dansen vanuit vrijheid in je lijf\n 	Ochtend yoga/mindfulness/meditatie\n 	2 workshops per dag en een avond activiteit\, die kunnen bestaan uit:\n 	Transformationeel ademwerk\n 	(Emotioneel) lichaamswerk\n 	(Familie) opstellingen\n 	Deelmomenten\n 	Creatieve expressie\n 	Werken in en met de natuur\n 	Massage (let the body talk)\n\n \n\nLet wel: De inhoud van het programma stemmen we altijd zorgvuldig af in het moment\, passend bij het proces van de groep.\n\nEen cursus locatie die tot de verbeelding doet spreken\, www.ecohuisje.be\n\n 	Cursuslocatie op de prachtige bosrijke locatie in de Belgische Ardennen\n 	3 overnachtingen (all-in)\n 	Liefdevolle bereide maaltijden\n\nEn niet te vergeten:  \n\nBegeleiding van 2 ervaren therapeut/coaches (53 en 55) die humor en uitdaging niet uit de weg gaan en putten uit een breed veld van zowel professionele als persoonlijke ervaring met het thema en in therapeutisch en lichaamsgericht werk\, opstellingen\, mindfulness\, meditatie\, yoga\, dans\, tantra\, sjamanisme\, massage en vrouwenwerk.\n\nEva-Monique Schepers Eva Art of living www.zijnscentum.nl\n\nSigrid Scheepers www.lopenpraten.nl\n\n \n\n Programma informatie:\n\ndonderdag:\n\n \n\n 	17;00-18;00 aankomst\, kamers inruimen.\n \n 	18:00 soep en versnapering\n \n 	19:00 Start\, kennismaken en avond programma in het kader van ont-spanning\n\n \n\nvrijdag:\n\n \n\n 	08:00   ochtend Yoga/Meditatie/dans\n \n 	09:00   ontbijt\n \n 	10:30   workshop\n \n 	13:00   lunch\n \n 	Vrije tijd\n \n 	15:30   workshop\n \n 	18:00   avondeten\n \n 	20:00   avond workshop in het kader van ontspanning.\n\n \n\nZaterdag:\n\n \n\n 	08:00   ochtend Yoga/Meditatie/dans\n \n 	09:00   ontbijt\n \n 	10:30   workshop\n \n 	13:00   lunch\n \n 	Vrije tijd\n \n 	15:30   workshop\n \n 	18:00   avondeten\n \n 	20:00   avond workshop en integratie sessie\n\n \n\nZondag:\n\n \n\n 	08:00   ochtend Yoga/Meditatie\n\n \n\n 	09:00   ontbijt\n \n 	10:30   workshop en integratie\n \n 	13:00   lunch\n \n 	kamer netjes achterlaten\n \n 	14:30   scharing en sprankelende afsluiting\n \n 	16:00-1700 afscheid\n\n \n\nEn erna hopelijk vriendschappen voor het leven 😊\n\n\n\nBetaal en praktische informatie:\n\nAanmelding is definitief na aanbetaling €100\,- zie link website www.zijnscentrum.nl. of op rekeningnummer van:\n\nLet op: i.v.m. annuleringskosten van de cursuslocatie\, is geen restitutie mogelijk van de aanbetaling.\n\nInformeer eventueel bij je reisverzekering of er in uitzonderlijke gevallen een mogelijkheid is tot restitutie.\n\nEva Art of Living: NL43ASNB 8821137708 o.v.v. Femme Totale en je voor en achternaam en kamerkeuze.\n\nFactuur is mogelijk (ook zakelijk als training)\n\nHet resterend bedrag wordt contant betaald bij aankomst.\n\n 	Voor 3 overnachtingen met all-in verzorging\, (een handje helpen\, is welkom).\n 	Een prachtig inspirerend programma geleid door 2 ervaren coaches\, trainers.\n 	Een groep met fantastische Femme Totale vrouwen die elkaar inspireren en co-creëren\,\n 	Een prachtige bosrijke omgeving in de Belgische Ardennen\,\n\n1 persoonskamer             € 545\,-\n\n2 persoonskamer             € 495\,-\n\n \n\n \n\n 
URL:https://zijnscentrum.nl/event/femme-totale/
LOCATION:Femme Totale 26-29 sept 2024\, Julianaweg 21\, St Geertruid\, limburg\, 6265AH\, Nederland
CATEGORIES:workshop
ORGANIZER;CN="Eva-Monique Schepers":MAILTO:info@zijnscentrum.nl
END:VEVENT
END:VCALENDAR